BEGIN:VCALENDAR
VERSION:2.0
PRODID:-//StreamRadar//Match Calendar//EN
CALSCALE:GREGORIAN
METHOD:PUBLISH
X-WR-CALNAME:Aberdeen vs Kilmarnock
X-WR-TIMEZONE:America/New_York
BEGIN:VEVENT
UID:match-5609389@streamradar.soccer
SUMMARY:Aberdeen vs Kilmarnock
DTSTAMP:20260421T054724Z
DTSTART;TZID=America/New_York:20260425T100000
DTEND;TZID=America/New_York:20260425T120000
LOCATION:Pittodrie Stadium
DESCRIPTION:Gde gledati Aberdeen protiv Kilmarnock u takmičenju Škotska P
 remijer liga. Prenos uživo i TV program.\nhttps://streamradar.soccer/sr/ma
 tch/5609389/aberdeen-vs-kilmarnock/
URL;VALUE=URI:https://streamradar.soccer/sr/match/5609389/aberdeen-vs-kilma
 rnock/
STATUS:CONFIRMED
END:VEVENT
END:VCALENDAR
