BEGIN:VCALENDAR
VERSION:2.0
PRODID:-//StreamRadar//Match Calendar//EN
CALSCALE:GREGORIAN
METHOD:PUBLISH
X-WR-CALNAME:AS UAM vs Douanes Niamey
X-WR-TIMEZONE:America/New_York
BEGIN:VEVENT
UID:match-5609375@streamradar.soccer
SUMMARY:AS UAM vs Douanes Niamey
DTSTAMP:20260422T005923Z
DTSTART;TZID=America/New_York:20260409T110000
DTEND;TZID=America/New_York:20260409T130000
DESCRIPTION:Gde gledati AS UAM protiv Douanes Niamey u takmičenju Niger - 
 Super Ligue. Prenos uživo i TV program.\nhttps://streamradar.soccer/sr/mat
 ch/5609375/as-uam-vs-douanes-niamey/
URL;VALUE=URI:https://streamradar.soccer/sr/match/5609375/as-uam-vs-douanes
 -niamey/
STATUS:CONFIRMED
END:VEVENT
END:VCALENDAR
