BEGIN:VCALENDAR
VERSION:2.0
PRODID:-//StreamRadar//Match Calendar//EN
CALSCALE:GREGORIAN
METHOD:PUBLISH
X-WR-CALNAME:KMC vs Young Africans
X-WR-TIMEZONE:America/New_York
BEGIN:VEVENT
UID:match-5608950@streamradar.soccer
SUMMARY:KMC vs Young Africans
DTSTAMP:20260421T091935Z
DTSTART;TZID=America/New_York:20260506T090000
DTEND;TZID=America/New_York:20260506T110000
LOCATION:KMC Stadium
DESCRIPTION:Gde gledati KMC protiv Young Africans u takmičenju Tanzanijska
  Premijer liga. Prenos uživo i TV program.\nhttps://streamradar.soccer/sr/
 match/5608950/kmc-vs-young-africans/
URL;VALUE=URI:https://streamradar.soccer/sr/match/5608950/kmc-vs-young-afri
 cans/
STATUS:CONFIRMED
END:VEVENT
END:VCALENDAR
