BEGIN:VCALENDAR
VERSION:2.0
PRODID:-//StreamRadar//Match Calendar//EN
CALSCALE:GREGORIAN
METHOD:PUBLISH
X-WR-CALNAME:Singida Black Stars vs Pamba
X-WR-TIMEZONE:America/New_York
BEGIN:VEVENT
UID:match-5608353@streamradar.soccer
SUMMARY:Singida Black Stars vs Pamba
DTSTAMP:20260421T084138Z
DTSTART;TZID=America/New_York:20260505T070000
DTEND;TZID=America/New_York:20260505T090000
LOCATION:Airtel Stadium
DESCRIPTION:Gde gledati Singida Black Stars protiv Pamba u takmičenju Tanz
 anijska Premijer liga. Prenos uživo i TV program.\nhttps://streamradar.soc
 cer/sr/match/5608353/singida-black-stars-vs-pamba/
URL;VALUE=URI:https://streamradar.soccer/sr/match/5608353/singida-black-sta
 rs-vs-pamba/
STATUS:CONFIRMED
END:VEVENT
END:VCALENDAR
