BEGIN:VCALENDAR
VERSION:2.0
PRODID:-//StreamRadar//Match Calendar//EN
CALSCALE:GREGORIAN
METHOD:PUBLISH
X-WR-CALNAME:Tanzania Prisons vs Mbeya City
X-WR-TIMEZONE:America/New_York
BEGIN:VEVENT
UID:match-5607996@streamradar.soccer
SUMMARY:Tanzania Prisons vs Mbeya City
DTSTAMP:20260421T104441Z
DTSTART;TZID=America/New_York:20260504T090000
DTEND;TZID=America/New_York:20260504T110000
LOCATION:Sokoine Stadium
DESCRIPTION:Gde gledati Tanzania Prisons protiv Mbeya City u takmičenju Ta
 nzanijska Premijer liga. Prenos uživo i TV program.\nhttps://streamradar.s
 occer/sr/match/5607996/tanzania-prisons-vs-mbeya-city/
URL;VALUE=URI:https://streamradar.soccer/sr/match/5607996/tanzania-prisons-
 vs-mbeya-city/
STATUS:CONFIRMED
END:VEVENT
END:VCALENDAR
