BEGIN:VCALENDAR
VERSION:2.0
PRODID:-//StreamRadar//Match Calendar//EN
CALSCALE:GREGORIAN
METHOD:PUBLISH
X-WR-CALNAME:Ypiranga Erechim vs Ituano
X-WR-TIMEZONE:America/New_York
BEGIN:VEVENT
UID:match-5607991@streamradar.soccer
SUMMARY:Ypiranga Erechim vs Ituano
DTSTAMP:20260421T102109Z
DTSTART;TZID=America/New_York:20260504T190000
DTEND;TZID=America/New_York:20260504T210000
DESCRIPTION:Gde gledati Ypiranga Erechim protiv Ituano u takmičenju Brazil
  - Serie C. Prenos uživo i TV program.\nhttps://streamradar.soccer/sr/matc
 h/5607991/ypiranga-erechim-vs-ituano/
URL;VALUE=URI:https://streamradar.soccer/sr/match/5607991/ypiranga-erechim-
 vs-ituano/
STATUS:CONFIRMED
END:VEVENT
END:VCALENDAR
