BEGIN:VCALENDAR
VERSION:2.0
PRODID:-//StreamRadar//Match Calendar//EN
CALSCALE:GREGORIAN
METHOD:PUBLISH
X-WR-CALNAME:AS ZAM vs Urbana
X-WR-TIMEZONE:America/New_York
BEGIN:VEVENT
UID:match-5607951@streamradar.soccer
SUMMARY:AS ZAM vs Urbana
DTSTAMP:20260421T221137Z
DTSTART;TZID=America/New_York:20260407T110000
DTEND;TZID=America/New_York:20260407T130000
DESCRIPTION:Gde gledati AS ZAM protiv Urbana u takmičenju Niger - Super Li
 gue. Prenos uživo i TV program.\nhttps://streamradar.soccer/sr/match/56079
 51/as-zam-vs-urbana/
URL;VALUE=URI:https://streamradar.soccer/sr/match/5607951/as-zam-vs-urbana/
STATUS:CONFIRMED
END:VEVENT
END:VCALENDAR
