BEGIN:VCALENDAR
VERSION:2.0
PRODID:-//StreamRadar//Match Calendar//EN
CALSCALE:GREGORIAN
METHOD:PUBLISH
X-WR-CALNAME:Luki-Energiya vs Dinamo Vologda
X-WR-TIMEZONE:America/New_York
BEGIN:VEVENT
UID:match-5607570@streamradar.soccer
SUMMARY:Luki-Energiya vs Dinamo Vologda
DTSTAMP:20260421T093015Z
DTSTART;TZID=America/New_York:20260503T090000
DTEND;TZID=America/New_York:20260503T110000
DESCRIPTION:Gde gledati Luki-Energiya protiv Dinamo Vologda u takmičenju R
 usija - FNL 2. Prenos uživo i TV program.\nhttps://streamradar.soccer/sr/m
 atch/5607570/luki-energiya-vs-dinamo-vologda/
URL;VALUE=URI:https://streamradar.soccer/sr/match/5607570/luki-energiya-vs-
 dinamo-vologda/
STATUS:CONFIRMED
END:VEVENT
END:VCALENDAR
