BEGIN:VCALENDAR
VERSION:2.0
PRODID:-//StreamRadar//Match Calendar//EN
CALSCALE:GREGORIAN
METHOD:PUBLISH
X-WR-CALNAME:Ferroviário vs Piauí
X-WR-TIMEZONE:America/New_York
BEGIN:VEVENT
UID:match-5607447@streamradar.soccer
SUMMARY:Ferroviário vs Piauí
DTSTAMP:20260421T104259Z
DTSTART;TZID=America/New_York:20260503T160000
DTEND;TZID=America/New_York:20260503T180000
LOCATION:Estadio Presidente Vargas
DESCRIPTION:Gde gledati Ferroviário protiv Piauí u takmičenju Brazil - S
 erie D. Prenos uživo i TV program.\nhttps://streamradar.soccer/sr/match/56
 07447/ferroviario-vs-piaui/
URL;VALUE=URI:https://streamradar.soccer/sr/match/5607447/ferroviario-vs-pi
 aui/
STATUS:CONFIRMED
END:VEVENT
END:VCALENDAR
