BEGIN:VCALENDAR
VERSION:2.0
PRODID:-//StreamRadar//Match Calendar//EN
CALSCALE:GREGORIAN
METHOD:PUBLISH
X-WR-CALNAME:Aalesund vs Molde
X-WR-TIMEZONE:America/New_York
BEGIN:VEVENT
UID:match-5604393@streamradar.soccer
SUMMARY:Aalesund vs Molde
DTSTAMP:20260422T053830Z
DTSTART;TZID=America/New_York:20260919T090000
DTEND;TZID=America/New_York:20260919T110000
LOCATION:Color Line Stadion
DESCRIPTION:Gde gledati Aalesund protiv Molde u takmičenju Norveška - Top
 pserien. Prenos uživo i TV program.\nhttps://streamradar.soccer/sr/match/5
 604393/aalesund-vs-molde/
URL;VALUE=URI:https://streamradar.soccer/sr/match/5604393/aalesund-vs-molde
 /
STATUS:CONFIRMED
END:VEVENT
END:VCALENDAR
