BEGIN:VCALENDAR
VERSION:2.0
PRODID:-//StreamRadar//Match Calendar//EN
CALSCALE:GREGORIAN
METHOD:PUBLISH
X-WR-CALNAME:Slavia vs Naftan
X-WR-TIMEZONE:America/New_York
BEGIN:VEVENT
UID:match-5593218@streamradar.soccer
SUMMARY:Slavia vs Naftan
DTSTAMP:20260423T170827Z
DTSTART;TZID=America/New_York:20260919T110000
DTEND;TZID=America/New_York:20260919T130000
LOCATION:Stadion Junost
DESCRIPTION:Gde gledati Slavia protiv Naftan u takmičenju Belorusija - Bel
 oruska Premier Liga. Prenos uživo i TV program.\nhttps://streamradar.socce
 r/sr/match/5593218/slavia-vs-naftan/
URL;VALUE=URI:https://streamradar.soccer/sr/match/5593218/slavia-vs-naftan/
STATUS:CONFIRMED
END:VEVENT
END:VCALENDAR
