BEGIN:VCALENDAR
VERSION:2.0
PRODID:-//StreamRadar//Match Calendar//EN
CALSCALE:GREGORIAN
METHOD:PUBLISH
X-WR-CALNAME:Arsenal vs Baranovichi
X-WR-TIMEZONE:America/New_York
BEGIN:VEVENT
UID:match-5593204@streamradar.soccer
SUMMARY:Arsenal vs Baranovichi
DTSTAMP:20260423T170920Z
DTSTART;TZID=America/New_York:20260912T110000
DTEND;TZID=America/New_York:20260912T130000
LOCATION:Haradski Stadium
DESCRIPTION:Gde gledati Arsenal protiv Baranovichi u takmičenju Belorusija
  - Beloruska Premier Liga. Prenos uživo i TV program.\nhttps://streamradar
 .soccer/sr/match/5593204/arsenal-vs-baranovichi/
URL;VALUE=URI:https://streamradar.soccer/sr/match/5593204/arsenal-vs-barano
 vichi/
STATUS:CONFIRMED
END:VEVENT
END:VCALENDAR
