BEGIN:VCALENDAR
VERSION:2.0
PRODID:-//StreamRadar//Match Calendar//EN
CALSCALE:GREGORIAN
METHOD:PUBLISH
X-WR-CALNAME:Shenzhen Juniors vs Changchun Yatai
X-WR-TIMEZONE:America/New_York
BEGIN:VEVENT
UID:match-5589243@streamradar.soccer
SUMMARY:Shenzhen Juniors vs Changchun Yatai
DTSTAMP:20260423T184025Z
DTSTART;TZID=America/New_York:20260919T070000
DTEND;TZID=America/New_York:20260919T090000
LOCATION:Longhua sports center stadium
DESCRIPTION:Gde gledati Shenzhen Juniors protiv Changchun Yatai u takmičen
 ju Kineska liga jedan. Prenos uživo i TV program.\nhttps://streamradar.soc
 cer/sr/match/5589243/shenzhen-juniors-vs-changchun-yatai/
URL;VALUE=URI:https://streamradar.soccer/sr/match/5589243/shenzhen-juniors-
 vs-changchun-yatai/
STATUS:CONFIRMED
END:VEVENT
END:VCALENDAR
