BEGIN:VCALENDAR
VERSION:2.0
PRODID:-//StreamRadar//Match Calendar//EN
CALSCALE:GREGORIAN
METHOD:PUBLISH
X-WR-CALNAME:Wuxi Wugou vs Nantong Zhiyun
X-WR-TIMEZONE:America/New_York
BEGIN:VEVENT
UID:match-5589236@streamradar.soccer
SUMMARY:Wuxi Wugou vs Nantong Zhiyun
DTSTAMP:20260423T184038Z
DTSTART;TZID=America/New_York:20260913T070000
DTEND;TZID=America/New_York:20260913T090000
LOCATION:Wuxi Sport Center
DESCRIPTION:Gde gledati Wuxi Wugou protiv Nantong Zhiyun u takmičenju Kine
 ska liga jedan. Prenos uživo i TV program.\nhttps://streamradar.soccer/sr/
 match/5589236/wuxi-wugou-vs-nantong-zhiyun/
URL;VALUE=URI:https://streamradar.soccer/sr/match/5589236/wuxi-wugou-vs-nan
 tong-zhiyun/
STATUS:CONFIRMED
END:VEVENT
END:VCALENDAR
