BEGIN:VCALENDAR
VERSION:2.0
PRODID:-//StreamRadar//Match Calendar//EN
CALSCALE:GREGORIAN
METHOD:PUBLISH
X-WR-CALNAME:Foshan Nanshi vs Dalian Kuncheng
X-WR-TIMEZONE:America/New_York
BEGIN:VEVENT
UID:match-5589226@streamradar.soccer
SUMMARY:Foshan Nanshi vs Dalian Kuncheng
DTSTAMP:20260423T184019Z
DTSTART;TZID=America/New_York:20260905T073000
DTEND;TZID=America/New_York:20260905T093000
LOCATION:Foshan International Sports and Cultural Center
DESCRIPTION:Gde gledati Foshan Nanshi protiv Dalian Kuncheng u takmičenju 
 Kineska liga jedan. Prenos uživo i TV program.\nhttps://streamradar.soccer
 /sr/match/5589226/foshan-nanshi-vs-dalian-kuncheng/
URL;VALUE=URI:https://streamradar.soccer/sr/match/5589226/foshan-nanshi-vs-
 dalian-kuncheng/
STATUS:CONFIRMED
END:VEVENT
END:VCALENDAR
