BEGIN:VCALENDAR
VERSION:2.0
PRODID:-//StreamRadar//Match Calendar//EN
CALSCALE:GREGORIAN
METHOD:PUBLISH
X-WR-CALNAME:Changchun Yatai vs Ningbo Professional
X-WR-TIMEZONE:America/New_York
BEGIN:VEVENT
UID:match-5589223@streamradar.soccer
SUMMARY:Changchun Yatai vs Ningbo Professional
DTSTAMP:20260423T184043Z
DTSTART;TZID=America/New_York:20260905T070000
DTEND;TZID=America/New_York:20260905T090000
LOCATION:Development Area Stadium
DESCRIPTION:Gde gledati Changchun Yatai protiv Ningbo Professional u takmi
 enju Kineska liga jedan. Prenos uživo i TV program.\nhttps://streamradar.
 soccer/sr/match/5589223/changchun-yatai-vs-ningbo-professional/
URL;VALUE=URI:https://streamradar.soccer/sr/match/5589223/changchun-yatai-v
 s-ningbo-professional/
STATUS:CONFIRMED
END:VEVENT
END:VCALENDAR
