BEGIN:VCALENDAR
VERSION:2.0
PRODID:-//StreamRadar//Match Calendar//EN
CALSCALE:GREGORIAN
METHOD:PUBLISH
X-WR-CALNAME:Okzhetpes vs Zhenys
X-WR-TIMEZONE:America/New_York
BEGIN:VEVENT
UID:match-5582341@streamradar.soccer
SUMMARY:Okzhetpes vs Zhenys
DTSTAMP:20260421T122535Z
DTSTART;TZID=America/New_York:20260917T090000
DTEND;TZID=America/New_York:20260917T110000
LOCATION:Okzhetpes Stadium
DESCRIPTION:Gde gledati Okzhetpes protiv Zhenys u takmičenju Kazahstanska 
 Premijer liga. Prenos uživo i TV program.\nhttps://streamradar.soccer/sr/m
 atch/5582341/okzhetpes-vs-zhenys/
URL;VALUE=URI:https://streamradar.soccer/sr/match/5582341/okzhetpes-vs-zhen
 ys/
STATUS:CONFIRMED
END:VEVENT
END:VCALENDAR
