BEGIN:VCALENDAR
VERSION:2.0
PRODID:-//StreamRadar//Match Calendar//EN
CALSCALE:GREGORIAN
METHOD:PUBLISH
X-WR-CALNAME:Altai vs Irtysh
X-WR-TIMEZONE:America/New_York
BEGIN:VEVENT
UID:match-5582337@streamradar.soccer
SUMMARY:Altai vs Irtysh
DTSTAMP:20260421T181204Z
DTSTART;TZID=America/New_York:20260917T090000
DTEND;TZID=America/New_York:20260917T110000
LOCATION:Vostok Stadium
DESCRIPTION:Gde gledati Altai protiv Irtysh u takmičenju Kazahstanska Prem
 ijer liga. Prenos uživo i TV program.\nhttps://streamradar.soccer/sr/match
 /5582337/altai-vs-irtysh/
URL;VALUE=URI:https://streamradar.soccer/sr/match/5582337/altai-vs-irtysh/
STATUS:CONFIRMED
END:VEVENT
END:VCALENDAR
