BEGIN:VCALENDAR
VERSION:2.0
PRODID:-//StreamRadar//Match Calendar//EN
CALSCALE:GREGORIAN
METHOD:PUBLISH
X-WR-CALNAME:Zhenys vs Kyzyl-Zhar
X-WR-TIMEZONE:America/New_York
BEGIN:VEVENT
UID:match-5582335@streamradar.soccer
SUMMARY:Zhenys vs Kyzyl-Zhar
DTSTAMP:20260421T135920Z
DTSTART;TZID=America/New_York:20260912T090000
DTEND;TZID=America/New_York:20260912T110000
DESCRIPTION:Gde gledati Zhenys protiv Kyzyl-Zhar u takmičenju Kazahstanska
  Premijer liga. Prenos uživo i TV program.\nhttps://streamradar.soccer/sr/
 match/5582335/zhenys-vs-kyzyl-zhar/
URL;VALUE=URI:https://streamradar.soccer/sr/match/5582335/zhenys-vs-kyzyl-z
 har/
STATUS:CONFIRMED
END:VEVENT
END:VCALENDAR
