BEGIN:VCALENDAR
VERSION:2.0
PRODID:-//StreamRadar//Match Calendar//EN
CALSCALE:GREGORIAN
METHOD:PUBLISH
X-WR-CALNAME:Police vs Bandari
X-WR-TIMEZONE:America/New_York
BEGIN:VEVENT
UID:match-5568908@streamradar.soccer
SUMMARY:Police vs Bandari
DTSTAMP:20260423T083935Z
DTSTART;TZID=America/New_York:20260301T060000
DTEND;TZID=America/New_York:20260301T080000
LOCATION:Nyayo National Stadium (Nairobi)
DESCRIPTION:Gde gledati Police protiv Bandari u takmičenju Kenyan Premier 
 League. Prenos uživo i TV program.\nhttps://streamradar.soccer/sr/match/55
 68908/police-vs-bandari/
URL;VALUE=URI:https://streamradar.soccer/sr/match/5568908/police-vs-bandari
 /
STATUS:CONFIRMED
END:VEVENT
END:VCALENDAR
