BEGIN:VCALENDAR
VERSION:2.0
PRODID:-//StreamRadar//Match Calendar//EN
CALSCALE:GREGORIAN
METHOD:PUBLISH
X-WR-CALNAME:Maardu vs Tallinna Kalev
X-WR-TIMEZONE:America/New_York
BEGIN:VEVENT
UID:match-5567424@streamradar.soccer
SUMMARY:Maardu vs Tallinna Kalev
DTSTAMP:20260421T194936Z
DTSTART;TZID=America/New_York:20260913T053000
DTEND;TZID=America/New_York:20260913T073000
DESCRIPTION:Gde gledati Maardu protiv Tallinna Kalev u takmičenju Estonija
  - Esiliiga A. Prenos uživo i TV program.\nhttps://streamradar.soccer/sr/m
 atch/5567424/maardu-vs-tallinna-kalev/
URL;VALUE=URI:https://streamradar.soccer/sr/match/5567424/maardu-vs-tallinn
 a-kalev/
STATUS:CONFIRMED
END:VEVENT
END:VCALENDAR
