BEGIN:VCALENDAR
VERSION:2.0
PRODID:-//StreamRadar//Match Calendar//EN
CALSCALE:GREGORIAN
METHOD:PUBLISH
X-WR-CALNAME:Viimsi vs Elva
X-WR-TIMEZONE:America/New_York
BEGIN:VEVENT
UID:match-5567421@streamradar.soccer
SUMMARY:Viimsi vs Elva
DTSTAMP:20260421T175005Z
DTSTART;TZID=America/New_York:20260910T120000
DTEND;TZID=America/New_York:20260910T140000
LOCATION:Viimsi Staadion
DESCRIPTION:Gde gledati Viimsi protiv Elva u takmičenju Estonija - Esiliig
 a A. Prenos uživo i TV program.\nhttps://streamradar.soccer/sr/match/55674
 21/viimsi-vs-elva/
URL;VALUE=URI:https://streamradar.soccer/sr/match/5567421/viimsi-vs-elva/
STATUS:CONFIRMED
END:VEVENT
END:VCALENDAR
