BEGIN:VCALENDAR
VERSION:2.0
PRODID:-//StreamRadar//Match Calendar//EN
CALSCALE:GREGORIAN
METHOD:PUBLISH
X-WR-CALNAME:Nõmme United II vs Tallinna Kalev
X-WR-TIMEZONE:America/New_York
BEGIN:VEVENT
UID:match-5567419@streamradar.soccer
SUMMARY:Nõmme United II vs Tallinna Kalev
DTSTAMP:20260421T182705Z
DTSTART;TZID=America/New_York:20260910T103000
DTEND;TZID=America/New_York:20260910T123000
DESCRIPTION:Gde gledati Nõmme United II protiv Tallinna Kalev u takmičenj
 u Estonija - Esiliiga A. Prenos uživo i TV program.\nhttps://streamradar.s
 occer/sr/match/5567419/nomme-united-ii-vs-tallinna-kalev/
URL;VALUE=URI:https://streamradar.soccer/sr/match/5567419/nomme-united-ii-v
 s-tallinna-kalev/
STATUS:CONFIRMED
END:VEVENT
END:VCALENDAR
