BEGIN:VCALENDAR
VERSION:2.0
PRODID:-//StreamRadar//Match Calendar//EN
CALSCALE:GREGORIAN
METHOD:PUBLISH
X-WR-CALNAME:Elva vs Nõmme Kalju II
X-WR-TIMEZONE:America/New_York
BEGIN:VEVENT
UID:match-5567413@streamradar.soccer
SUMMARY:Elva vs Nõmme Kalju II
DTSTAMP:20260422T172609Z
DTSTART;TZID=America/New_York:20260905T053000
DTEND;TZID=America/New_York:20260905T073000
LOCATION:Nike Arena
DESCRIPTION:Gde gledati Elva protiv Nõmme Kalju II u takmičenju Estonija 
 - Esiliiga A. Prenos uživo i TV program.\nhttps://streamradar.soccer/sr/ma
 tch/5567413/elva-vs-nomme-kalju-ii/
URL;VALUE=URI:https://streamradar.soccer/sr/match/5567413/elva-vs-nomme-kal
 ju-ii/
STATUS:CONFIRMED
END:VEVENT
END:VCALENDAR
