BEGIN:VCALENDAR
VERSION:2.0
PRODID:-//StreamRadar//Match Calendar//EN
CALSCALE:GREGORIAN
METHOD:PUBLISH
X-WR-CALNAME:Hirnyk-Sport vs Trostianets
X-WR-TIMEZONE:America/New_York
BEGIN:VEVENT
UID:match-5567284@streamradar.soccer
SUMMARY:Hirnyk-Sport vs Trostianets
DTSTAMP:20260421T183122Z
DTSTART;TZID=America/New_York:20260523T100000
DTEND;TZID=America/New_York:20260523T120000
LOCATION:Yunist Stadium
DESCRIPTION:Gde gledati Hirnyk-Sport protiv Trostianets u takmičenju Ukraj
 ina - Druga liga Ukrajine. Prenos uživo i TV program.\nhttps://streamradar
 .soccer/sr/match/5567284/hirnyk-sport-vs-trostianets/
URL;VALUE=URI:https://streamradar.soccer/sr/match/5567284/hirnyk-sport-vs-t
 rostianets/
STATUS:CONFIRMED
END:VEVENT
END:VCALENDAR
