BEGIN:VCALENDAR
VERSION:2.0
PRODID:-//StreamRadar//Match Calendar//EN
CALSCALE:GREGORIAN
METHOD:PUBLISH
X-WR-CALNAME:Dinaz Vyshhorod vs Chayka
X-WR-TIMEZONE:America/New_York
BEGIN:VEVENT
UID:match-5567211@streamradar.soccer
SUMMARY:Dinaz Vyshhorod vs Chayka
DTSTAMP:20260421T165110Z
DTSTART;TZID=America/New_York:20260413T100000
DTEND;TZID=America/New_York:20260413T120000
LOCATION:Dinaz Stadium
DESCRIPTION:Gde gledati Dinaz Vyshhorod protiv Chayka u takmičenju Ukrajin
 a - Druga liga Ukrajine. Prenos uživo i TV program.\nhttps://streamradar.s
 occer/sr/match/5567211/dinaz-vyshhorod-vs-chayka/
URL;VALUE=URI:https://streamradar.soccer/sr/match/5567211/dinaz-vyshhorod-v
 s-chayka/
STATUS:CONFIRMED
END:VEVENT
END:VCALENDAR
