BEGIN:VCALENDAR
VERSION:2.0
PRODID:-//StreamRadar//Match Calendar//EN
CALSCALE:GREGORIAN
METHOD:PUBLISH
X-WR-CALNAME:Onsala vs Galtabacks
X-WR-TIMEZONE:America/New_York
BEGIN:VEVENT
UID:match-5567078@streamradar.soccer
SUMMARY:Onsala vs Galtabacks
DTSTAMP:20260422T181456Z
DTSTART;TZID=America/New_York:20260912T100000
DTEND;TZID=America/New_York:20260912T120000
LOCATION:Rydets IP
DESCRIPTION:Gde gledati Onsala protiv Galtabacks u takmičenju Švedska - D
 ruga liga Švedske. Prenos uživo i TV program.\nhttps://streamradar.soccer
 /sr/match/5567078/onsala-vs-galtabacks/
URL;VALUE=URI:https://streamradar.soccer/sr/match/5567078/onsala-vs-galtaba
 cks/
STATUS:CONFIRMED
END:VEVENT
END:VCALENDAR
