BEGIN:VCALENDAR
VERSION:2.0
PRODID:-//StreamRadar//Match Calendar//EN
CALSCALE:GREGORIAN
METHOD:PUBLISH
X-WR-CALNAME:Böljan vs Västra Frölunda
X-WR-TIMEZONE:America/New_York
BEGIN:VEVENT
UID:match-5567031@streamradar.soccer
SUMMARY:Böljan vs Västra Frölunda
DTSTAMP:20260422T154036Z
DTSTART;TZID=America/New_York:20260731T130000
DTEND;TZID=America/New_York:20260731T150000
DESCRIPTION:Gde gledati Böljan protiv Västra Frölunda u takmičenju Šve
 dska - Druga liga Švedske. Prenos uživo i TV program.\nhttps://streamrada
 r.soccer/sr/match/5567031/boljan-vs-vastra-frolunda/
URL;VALUE=URI:https://streamradar.soccer/sr/match/5567031/boljan-vs-vastra-
 frolunda/
STATUS:CONFIRMED
END:VEVENT
END:VCALENDAR
