BEGIN:VCALENDAR
VERSION:2.0
PRODID:-//StreamRadar//Match Calendar//EN
CALSCALE:GREGORIAN
METHOD:PUBLISH
X-WR-CALNAME:Eker Örebro vs Haninge
X-WR-TIMEZONE:America/New_York
BEGIN:VEVENT
UID:match-5566904@streamradar.soccer
SUMMARY:Eker Örebro vs Haninge
DTSTAMP:20260424T161043Z
DTSTART;TZID=America/New_York:20260920T070000
DTEND;TZID=America/New_York:20260920T090000
DESCRIPTION:Gde gledati Eker Örebro protiv Haninge u takmičenju Švedska 
 - Druga liga Švedske. Prenos uživo i TV program.\nhttps://streamradar.soc
 cer/sr/match/5566904/eker-orebro-vs-haninge/
URL;VALUE=URI:https://streamradar.soccer/sr/match/5566904/eker-orebro-vs-ha
 ninge/
STATUS:CONFIRMED
END:VEVENT
END:VCALENDAR
