BEGIN:VCALENDAR
VERSION:2.0
PRODID:-//StreamRadar//Match Calendar//EN
CALSCALE:GREGORIAN
METHOD:PUBLISH
X-WR-CALNAME:Rågsved vs Haninge
X-WR-TIMEZONE:America/New_York
BEGIN:VEVENT
UID:match-5566884@streamradar.soccer
SUMMARY:Rågsved vs Haninge
DTSTAMP:20260422T024653Z
DTSTART;TZID=America/New_York:20260904T140000
DTEND;TZID=America/New_York:20260904T160000
DESCRIPTION:Gde gledati Rågsved protiv Haninge u takmičenju Švedska - Dr
 uga liga Švedske. Prenos uživo i TV program.\nhttps://streamradar.soccer/
 sr/match/5566884/ragsved-vs-haninge/
URL;VALUE=URI:https://streamradar.soccer/sr/match/5566884/ragsved-vs-haning
 e/
STATUS:CONFIRMED
END:VEVENT
END:VCALENDAR
