BEGIN:VCALENDAR
VERSION:2.0
PRODID:-//StreamRadar//Match Calendar//EN
CALSCALE:GREGORIAN
METHOD:PUBLISH
X-WR-CALNAME:Karlshamn vs Torns
X-WR-TIMEZONE:America/New_York
BEGIN:VEVENT
UID:match-5566715@streamradar.soccer
SUMMARY:Karlshamn vs Torns
DTSTAMP:20260422T072625Z
DTSTART;TZID=America/New_York:20260913T080000
DTEND;TZID=America/New_York:20260913T100000
DESCRIPTION:Gde gledati Karlshamn protiv Torns u takmičenju Švedska - Dru
 ga liga Švedske. Prenos uživo i TV program.\nhttps://streamradar.soccer/s
 r/match/5566715/karlshamn-vs-torns/
URL;VALUE=URI:https://streamradar.soccer/sr/match/5566715/karlshamn-vs-torn
 s/
STATUS:CONFIRMED
END:VEVENT
END:VCALENDAR
