BEGIN:VCALENDAR
VERSION:2.0
PRODID:-//StreamRadar//Match Calendar//EN
CALSCALE:GREGORIAN
METHOD:PUBLISH
X-WR-CALNAME:Sölvesborg vs Karlskrona
X-WR-TIMEZONE:America/New_York
BEGIN:VEVENT
UID:match-5566711@streamradar.soccer
SUMMARY:Sölvesborg vs Karlskrona
DTSTAMP:20260421T181212Z
DTSTART;TZID=America/New_York:20260912T070000
DTEND;TZID=America/New_York:20260912T090000
DESCRIPTION:Gde gledati Sölvesborg protiv Karlskrona u takmičenju Švedsk
 a - Druga liga Švedske. Prenos uživo i TV program.\nhttps://streamradar.s
 occer/sr/match/5566711/solvesborg-vs-karlskrona/
URL;VALUE=URI:https://streamradar.soccer/sr/match/5566711/solvesborg-vs-kar
 lskrona/
STATUS:CONFIRMED
END:VEVENT
END:VCALENDAR
