BEGIN:VCALENDAR
VERSION:2.0
PRODID:-//StreamRadar//Match Calendar//EN
CALSCALE:GREGORIAN
METHOD:PUBLISH
X-WR-CALNAME:Angby vs Ik Franke
X-WR-TIMEZONE:America/New_York
BEGIN:VEVENT
UID:match-5566530@streamradar.soccer
SUMMARY:Angby vs Ik Franke
DTSTAMP:20260422T181631Z
DTSTART;TZID=America/New_York:20260913T090000
DTEND;TZID=America/New_York:20260913T110000
DESCRIPTION:Gde gledati Angby protiv Ik Franke u takmičenju Švedska - Dru
 ga liga Švedske. Prenos uživo i TV program.\nhttps://streamradar.soccer/s
 r/match/5566530/angby-vs-ik-franke/
URL;VALUE=URI:https://streamradar.soccer/sr/match/5566530/angby-vs-ik-frank
 e/
STATUS:CONFIRMED
END:VEVENT
END:VCALENDAR
