BEGIN:VCALENDAR
VERSION:2.0
PRODID:-//StreamRadar//Match Calendar//EN
CALSCALE:GREGORIAN
METHOD:PUBLISH
X-WR-CALNAME:Herrestads vs Kumla
X-WR-TIMEZONE:America/New_York
BEGIN:VEVENT
UID:match-5566353@streamradar.soccer
SUMMARY:Herrestads vs Kumla
DTSTAMP:20260421T131010Z
DTSTART;TZID=America/New_York:20260918T133000
DTEND;TZID=America/New_York:20260918T153000
DESCRIPTION:Gde gledati Herrestads protiv Kumla u takmičenju Švedska - Dr
 uga liga Švedske. Prenos uživo i TV program.\nhttps://streamradar.soccer/
 sr/match/5566353/herrestads-vs-kumla/
URL;VALUE=URI:https://streamradar.soccer/sr/match/5566353/herrestads-vs-kum
 la/
STATUS:CONFIRMED
END:VEVENT
END:VCALENDAR
