BEGIN:VCALENDAR
VERSION:2.0
PRODID:-//StreamRadar//Match Calendar//EN
CALSCALE:GREGORIAN
METHOD:PUBLISH
X-WR-CALNAME:St. Louis City II vs Austin II
X-WR-TIMEZONE:America/New_York
BEGIN:VEVENT
UID:match-5565986@streamradar.soccer
SUMMARY:St. Louis City II vs Austin II
DTSTAMP:20260424T071801Z
DTSTART;TZID=America/New_York:20260920T170000
DTEND;TZID=America/New_York:20260920T190000
LOCATION:CITYPARK
DESCRIPTION:Gde gledati St. Louis City II protiv Austin II u takmičenju ML
 S Next Pro. Prenos uživo i TV program.\nhttps://streamradar.soccer/sr/matc
 h/5565986/st-louis-city-ii-vs-austin-ii/
URL;VALUE=URI:https://streamradar.soccer/sr/match/5565986/st-louis-city-ii-
 vs-austin-ii/
STATUS:CONFIRMED
END:VEVENT
END:VCALENDAR
