BEGIN:VCALENDAR
VERSION:2.0
PRODID:-//StreamRadar//Match Calendar//EN
CALSCALE:GREGORIAN
METHOD:PUBLISH
X-WR-CALNAME:Toronto II vs New England II
X-WR-TIMEZONE:America/New_York
BEGIN:VEVENT
UID:match-5565981@streamradar.soccer
SUMMARY:Toronto II vs New England II
DTSTAMP:20260425T174337Z
DTSTART;TZID=America/New_York:20260920T140000
DTEND;TZID=America/New_York:20260920T160000
LOCATION:York Lions Stadium
DESCRIPTION:Gde gledati Toronto II protiv New England II u takmičenju MLS 
 Next Pro. Prenos uživo i TV program.\nhttps://streamradar.soccer/sr/match/
 5565981/toronto-ii-vs-new-england-ii/
URL;VALUE=URI:https://streamradar.soccer/sr/match/5565981/toronto-ii-vs-new
 -england-ii/
STATUS:CONFIRMED
END:VEVENT
END:VCALENDAR
