BEGIN:VCALENDAR
VERSION:2.0
PRODID:-//StreamRadar//Match Calendar//EN
CALSCALE:GREGORIAN
METHOD:PUBLISH
X-WR-CALNAME:Philadelphia Union II vs New York City II
X-WR-TIMEZONE:America/New_York
BEGIN:VEVENT
UID:match-5565980@streamradar.soccer
SUMMARY:Philadelphia Union II vs New York City II
DTSTAMP:20260425T162759Z
DTSTART;TZID=America/New_York:20260920T140000
DTEND;TZID=America/New_York:20260920T160000
LOCATION:Subaru Park
DESCRIPTION:Gde gledati Philadelphia Union II protiv New York City II u tak
 mičenju MLS Next Pro. Prenos uživo i TV program.\nhttps://streamradar.soc
 cer/sr/match/5565980/philadelphia-union-ii-vs-new-york-city-ii/
URL;VALUE=URI:https://streamradar.soccer/sr/match/5565980/philadelphia-unio
 n-ii-vs-new-york-city-ii/
STATUS:CONFIRMED
END:VEVENT
END:VCALENDAR
