BEGIN:VCALENDAR
VERSION:2.0
PRODID:-//StreamRadar//Match Calendar//EN
CALSCALE:GREGORIAN
METHOD:PUBLISH
X-WR-CALNAME:Orlando City B vs Atlanta United II
X-WR-TIMEZONE:America/New_York
BEGIN:VEVENT
UID:match-5565979@streamradar.soccer
SUMMARY:Orlando City B vs Atlanta United II
DTSTAMP:20260423T165340Z
DTSTART;TZID=America/New_York:20260920T140000
DTEND;TZID=America/New_York:20260920T160000
LOCATION:Osceola County Stadium
DESCRIPTION:Gde gledati Orlando City B protiv Atlanta United II u takmičen
 ju MLS Next Pro. Prenos uživo i TV program.\nhttps://streamradar.soccer/sr
 /match/5565979/orlando-city-b-vs-atlanta-united-ii/
URL;VALUE=URI:https://streamradar.soccer/sr/match/5565979/orlando-city-b-vs
 -atlanta-united-ii/
STATUS:CONFIRMED
END:VEVENT
END:VCALENDAR
