BEGIN:VCALENDAR
VERSION:2.0
PRODID:-//StreamRadar//Match Calendar//EN
CALSCALE:GREGORIAN
METHOD:PUBLISH
X-WR-CALNAME:Portland Timbers II vs St. Louis City II
X-WR-TIMEZONE:America/New_York
BEGIN:VEVENT
UID:match-5565973@streamradar.soccer
SUMMARY:Portland Timbers II vs St. Louis City II
DTSTAMP:20260422T072703Z
DTSTART;TZID=America/New_York:20260914T160000
DTEND;TZID=America/New_York:20260914T180000
LOCATION:Providence Park
DESCRIPTION:Gde gledati Portland Timbers II protiv St. Louis City II u takm
 ičenju MLS Next Pro. Prenos uživo i TV program.\nhttps://streamradar.socc
 er/sr/match/5565973/portland-timbers-ii-vs-st-louis-city-ii/
URL;VALUE=URI:https://streamradar.soccer/sr/match/5565973/portland-timbers-
 ii-vs-st-louis-city-ii/
STATUS:CONFIRMED
END:VEVENT
END:VCALENDAR
