BEGIN:VCALENDAR
VERSION:2.0
PRODID:-//StreamRadar//Match Calendar//EN
CALSCALE:GREGORIAN
METHOD:PUBLISH
X-WR-CALNAME:Sporting KC II vs Los Angeles II
X-WR-TIMEZONE:America/New_York
BEGIN:VEVENT
UID:match-5565970@streamradar.soccer
SUMMARY:Sporting KC II vs Los Angeles II
DTSTAMP:20260422T155521Z
DTSTART;TZID=America/New_York:20260913T200000
DTEND;TZID=America/New_York:20260913T220000
LOCATION:Swope Soccer Village
DESCRIPTION:Gde gledati Sporting KC II protiv Los Angeles II u takmičenju 
 MLS Next Pro. Prenos uživo i TV program.\nhttps://streamradar.soccer/sr/ma
 tch/5565970/sporting-kc-ii-vs-los-angeles-ii/
URL;VALUE=URI:https://streamradar.soccer/sr/match/5565970/sporting-kc-ii-vs
 -los-angeles-ii/
STATUS:CONFIRMED
END:VEVENT
END:VCALENDAR
