BEGIN:VCALENDAR
VERSION:2.0
PRODID:-//StreamRadar//Match Calendar//EN
CALSCALE:GREGORIAN
METHOD:PUBLISH
X-WR-CALNAME:New York City II vs Connecticut FC
X-WR-TIMEZONE:America/New_York
BEGIN:VEVENT
UID:match-5565964@streamradar.soccer
SUMMARY:New York City II vs Connecticut FC
DTSTAMP:20260421T185410Z
DTSTART;TZID=America/New_York:20260913T170000
DTEND;TZID=America/New_York:20260913T190000
LOCATION:Belson Stadium
DESCRIPTION:Gde gledati New York City II protiv Connecticut FC u takmičenj
 u MLS Next Pro. Prenos uživo i TV program.\nhttps://streamradar.soccer/sr/
 match/5565964/new-york-city-ii-vs-connecticut-fc/
URL;VALUE=URI:https://streamradar.soccer/sr/match/5565964/new-york-city-ii-
 vs-connecticut-fc/
STATUS:CONFIRMED
END:VEVENT
END:VCALENDAR
