BEGIN:VCALENDAR
VERSION:2.0
PRODID:-//StreamRadar//Match Calendar//EN
CALSCALE:GREGORIAN
METHOD:PUBLISH
X-WR-CALNAME:Huntsville City vs Chattanooga
X-WR-TIMEZONE:America/New_York
BEGIN:VEVENT
UID:match-5565957@streamradar.soccer
SUMMARY:Huntsville City vs Chattanooga
DTSTAMP:20260421T185326Z
DTSTART;TZID=America/New_York:20260909T200000
DTEND;TZID=America/New_York:20260909T220000
LOCATION:Joe W. Davis Stadium
DESCRIPTION:Gde gledati Huntsville City protiv Chattanooga u takmičenju ML
 S Next Pro. Prenos uživo i TV program.\nhttps://streamradar.soccer/sr/matc
 h/5565957/huntsville-city-vs-chattanooga/
URL;VALUE=URI:https://streamradar.soccer/sr/match/5565957/huntsville-city-v
 s-chattanooga/
STATUS:CONFIRMED
END:VEVENT
END:VCALENDAR
