BEGIN:VCALENDAR
VERSION:2.0
PRODID:-//StreamRadar//Match Calendar//EN
CALSCALE:GREGORIAN
METHOD:PUBLISH
X-WR-CALNAME:Ulsan Citizen vs Gyeongju HNP
X-WR-TIMEZONE:America/New_York
BEGIN:VEVENT
UID:match-5565492@streamradar.soccer
SUMMARY:Ulsan Citizen vs Gyeongju HNP
DTSTAMP:20260422T024630Z
DTSTART;TZID=America/New_York:20260905T060000
DTEND;TZID=America/New_York:20260905T080000
LOCATION:Ulsan Complex Stadium
DESCRIPTION:Gde gledati Ulsan Citizen protiv Gyeongju HNP u takmičenju Ju
 na Koreja - K3 Liga. Prenos uživo i TV program.\nhttps://streamradar.socc
 er/sr/match/5565492/ulsan-citizen-vs-gyeongju-hnp/
URL;VALUE=URI:https://streamradar.soccer/sr/match/5565492/ulsan-citizen-vs-
 gyeongju-hnp/
STATUS:CONFIRMED
END:VEVENT
END:VCALENDAR
