BEGIN:VCALENDAR
VERSION:2.0
PRODID:-//StreamRadar//Match Calendar//EN
CALSCALE:GREGORIAN
METHOD:PUBLISH
X-WR-CALNAME:Moreton City Excelsior vs Peninsula Power
X-WR-TIMEZONE:America/New_York
BEGIN:VEVENT
UID:match-5565034@streamradar.soccer
SUMMARY:Moreton City Excelsior vs Peninsula Power
DTSTAMP:20260421T124717Z
DTSTART;TZID=America/New_York:20260717T053000
DTEND;TZID=America/New_York:20260717T073000
LOCATION:Wolter Park
DESCRIPTION:Gde gledati Moreton City Excelsior protiv Peninsula Power u tak
 mičenju Australija - NPL Queensland. Prenos uživo i TV program.\nhttps://
 streamradar.soccer/sr/match/5565034/moreton-city-excelsior-vs-peninsula-pow
 er/
URL;VALUE=URI:https://streamradar.soccer/sr/match/5565034/moreton-city-exce
 lsior-vs-peninsula-power/
STATUS:CONFIRMED
END:VEVENT
END:VCALENDAR
