BEGIN:VCALENDAR
VERSION:2.0
PRODID:-//StreamRadar//Match Calendar//EN
CALSCALE:GREGORIAN
METHOD:PUBLISH
X-WR-CALNAME:Green Gully vs Preston Lions
X-WR-TIMEZONE:America/New_York
BEGIN:VEVENT
UID:match-5564622@streamradar.soccer
SUMMARY:Green Gully vs Preston Lions
DTSTAMP:20260421T073250Z
DTSTART;TZID=America/New_York:20260424T053000
DTEND;TZID=America/New_York:20260424T073000
LOCATION:Green Gully Reserve
DESCRIPTION:Gde gledati Green Gully protiv Preston Lions u takmičenju Aust
 ralija - NPL Viktorija. Prenos uživo i TV program.\nhttps://streamradar.so
 ccer/sr/match/5564622/green-gully-vs-preston-lions/
URL;VALUE=URI:https://streamradar.soccer/sr/match/5564622/green-gully-vs-pr
 eston-lions/
STATUS:CONFIRMED
END:VEVENT
END:VCALENDAR
