BEGIN:VCALENDAR
VERSION:2.0
PRODID:-//StreamRadar//Match Calendar//EN
CALSCALE:GREGORIAN
METHOD:PUBLISH
X-WR-CALNAME:Hồ Chí Minh vs Dong Thap
X-WR-TIMEZONE:America/New_York
BEGIN:VEVENT
UID:match-5563370@streamradar.soccer
SUMMARY:Hồ Chí Minh vs Dong Thap
DTSTAMP:20260422T181630Z
DTSTART;TZID=America/New_York:20260606T050000
DTEND;TZID=America/New_York:20260606T070000
DESCRIPTION:Gde gledati Hồ Chí Minh protiv Dong Thap u takmičenju Vijet
 nam - V.League 2. Prenos uživo i TV program.\nhttps://streamradar.soccer/s
 r/match/5563370/ho-chi-minh-vs-dong-thap/
URL;VALUE=URI:https://streamradar.soccer/sr/match/5563370/ho-chi-minh-vs-do
 ng-thap/
STATUS:CONFIRMED
END:VEVENT
END:VCALENDAR
