BEGIN:VCALENDAR
VERSION:2.0
PRODID:-//StreamRadar//Match Calendar//EN
CALSCALE:GREGORIAN
METHOD:PUBLISH
X-WR-CALNAME:Ansan Greeners vs Chungbuk Cheongju
X-WR-TIMEZONE:America/New_York
BEGIN:VEVENT
UID:match-5563242@streamradar.soccer
SUMMARY:Ansan Greeners vs Chungbuk Cheongju
DTSTAMP:20260425T174323Z
DTSTART;TZID=America/New_York:20260920T033000
DTEND;TZID=America/New_York:20260920T053000
LOCATION:Ansan WA Stadium
DESCRIPTION:Gde gledati Ansan Greeners protiv Chungbuk Cheongju u takmičen
 ju Južna Koreja - K League 2. Prenos uživo i TV program.\nhttps://streamr
 adar.soccer/sr/match/5563242/ansan-greeners-vs-chungbuk-cheongju/
URL;VALUE=URI:https://streamradar.soccer/sr/match/5563242/ansan-greeners-vs
 -chungbuk-cheongju/
STATUS:CONFIRMED
END:VEVENT
END:VCALENDAR
