BEGIN:VCALENDAR
VERSION:2.0
PRODID:-//StreamRadar//Match Calendar//EN
CALSCALE:GREGORIAN
METHOD:PUBLISH
X-WR-CALNAME:Chungnam Asan vs Cheonan City
X-WR-TIMEZONE:America/New_York
BEGIN:VEVENT
UID:match-5563238@streamradar.soccer
SUMMARY:Chungnam Asan vs Cheonan City
DTSTAMP:20260422T040444Z
DTSTART;TZID=America/New_York:20260919T033000
DTEND;TZID=America/New_York:20260919T053000
LOCATION:Yishunsin Stadium
DESCRIPTION:Gde gledati Chungnam Asan protiv Cheonan City u takmičenju Ju
 na Koreja - K League 2. Prenos uživo i TV program.\nhttps://streamradar.s
 occer/sr/match/5563238/chungnam-asan-vs-cheonan-city/
URL;VALUE=URI:https://streamradar.soccer/sr/match/5563238/chungnam-asan-vs-
 cheonan-city/
STATUS:CONFIRMED
END:VEVENT
END:VCALENDAR
