BEGIN:VCALENDAR
VERSION:2.0
PRODID:-//StreamRadar//Match Calendar//EN
CALSCALE:GREGORIAN
METHOD:PUBLISH
X-WR-CALNAME:Chungnam Asan vs Chungbuk Cheongju
X-WR-TIMEZONE:America/New_York
BEGIN:VEVENT
UID:match-5563233@streamradar.soccer
SUMMARY:Chungnam Asan vs Chungbuk Cheongju
DTSTAMP:20260422T040444Z
DTSTART;TZID=America/New_York:20260912T060000
DTEND;TZID=America/New_York:20260912T080000
LOCATION:Yishunsin Stadium
DESCRIPTION:Gde gledati Chungnam Asan protiv Chungbuk Cheongju u takmičenj
 u Južna Koreja - K League 2. Prenos uživo i TV program.\nhttps://streamra
 dar.soccer/sr/match/5563233/chungnam-asan-vs-chungbuk-cheongju/
URL;VALUE=URI:https://streamradar.soccer/sr/match/5563233/chungnam-asan-vs-
 chungbuk-cheongju/
STATUS:CONFIRMED
END:VEVENT
END:VCALENDAR
