BEGIN:VCALENDAR
VERSION:2.0
PRODID:-//StreamRadar//Match Calendar//EN
CALSCALE:GREGORIAN
METHOD:PUBLISH
X-WR-CALNAME:Chungbuk Cheongju vs Seoul E-Land
X-WR-TIMEZONE:America/New_York
BEGIN:VEVENT
UID:match-5563222@streamradar.soccer
SUMMARY:Chungbuk Cheongju vs Seoul E-Land
DTSTAMP:20260422T040444Z
DTSTART;TZID=America/New_York:20260904T063000
DTEND;TZID=America/New_York:20260904T083000
LOCATION:Cheongju Stadion
DESCRIPTION:Gde gledati Chungbuk Cheongju protiv Seoul E-Land u takmičenju
  Južna Koreja - K League 2. Prenos uživo i TV program.\nhttps://streamrad
 ar.soccer/sr/match/5563222/chungbuk-cheongju-vs-seoul-e-land/
URL;VALUE=URI:https://streamradar.soccer/sr/match/5563222/chungbuk-cheongju
 -vs-seoul-e-land/
STATUS:CONFIRMED
END:VEVENT
END:VCALENDAR
